View In:
ArcGIS JavaScript
ArcGIS Online Map Viewer
ArcGIS Earth
ArcMap
View Footprint In:
ArcGIS Online Map Viewer
Service Description: TreeImprovement/MinTempZoneF
Name: TreeImprovement/MinTempZoneF
Description:
Single Fused Map Cache: false
Extent:
XMin: -97.65416667761001
YMin: 28.91249999806
XMax: -88.0958333481
YMax: 36.50416666169
Spatial Reference: 4269
(4269)
Initial Extent:
XMin: -97.65416667761001
YMin: 28.91249999806
XMax: -88.0958333481
YMax: 36.50416666169
Spatial Reference: 4269
(4269)
Full Extent:
XMin: -97.65416667761001
YMin: 28.91249999806
XMax: -88.0958333481
YMax: 36.50416666169
Spatial Reference: 4269
(4269)
Pixel Size X: 0.008333333330000005
Pixel Size Y: 0.008333333330000001
Band Count: 1
Pixel Type: F32
RasterFunction Infos: {"rasterFunctionInfos": [{
"name": "None",
"description": "",
"help": ""
}]}
Mensuration Capabilities: Basic
Has Histograms: true
Has Colormap: false
Has Multi Dimensions : false
Rendering Rule:
Min Scale: 0
Max Scale: 0
Copyright Text:
Service Data Type: esriImageServiceDataTypeGeneric
Min Values: -3.6759986877441406
Max Values: 30.110000610351562
Mean Values: 13.510251001297206
Standard Deviation Values: 5.853580008391462
Object ID Field:
Fields:
None
Default Mosaic Method: Center
Allowed Mosaic Methods:
SortField:
SortValue: null
Mosaic Operator: First
Default Compression Quality: 75
Default Resampling Method: Bilinear
Max Record Count: null
Max Image Height: 4100
Max Image Width: 15000
Max Download Image Count: null
Max Mosaic Image Count: null
Allow Raster Function: true
Allow Copy: true
Allow Analysis: true
Allow Compute TiePoints: false
Supports Statistics: false
Supports Advanced Queries: false
Use StandardizedQueries: true
Raster Type Infos:
Name: Raster Dataset
Description: Supports all ArcGIS Raster Datasets
Help:
Has Raster Attribute Table: false
Edit Fields Info: null
Ownership Based AccessControl For Rasters: null
Child Resources:
Info
Histograms
Statistics
Key Properties
Legend
Raster Function Infos
Supported Operations:
Export Image
Identify
Measure
Compute Histograms
Compute Statistics Histograms
Get Samples
Compute Class Statistics
Query Boundary
Compute Pixel Location
Validate
Project