View In:
ArcGIS JavaScript
ArcGIS Online Map Viewer
ArcGIS Earth
ArcMap
View Footprint In:
ArcGIS Online Map Viewer
Service Description: TreeImprovement/AnnualPPTZoneIn
Name: TreeImprovement/AnnualPPTZoneIn
Description:
Single Fused Map Cache: false
Extent:
XMin: -1.0870387466503428E7
YMin: 3365540.3097670805
XMax: -9806916.744928816
YMax: 4370336.784634127
Spatial Reference: 102100
(3857)
Initial Extent:
XMin: -1.0870387466503428E7
YMin: 3365540.3097670805
XMax: -9806916.744928816
YMax: 4370336.784634127
Spatial Reference: 102100
(3857)
Full Extent:
XMin: -1.0870387466503428E7
YMin: 3365540.3097670805
XMax: -9806916.744928816
YMax: 4370336.784634127
Spatial Reference: 102100
(3857)
Pixel Size X: 1047.7544054922284
Pixel Size Y: 1047.7544054922282
Band Count: 1
Pixel Type: F32
RasterFunction Infos: {"rasterFunctionInfos": [{
"name": "None",
"description": "",
"help": ""
}]}
Mensuration Capabilities: Basic
Has Histograms: true
Has Colormap: false
Has Multi Dimensions : false
Rendering Rule:
Min Scale: 0
Max Scale: 0
Copyright Text:
Service Data Type: esriImageServiceDataTypeGeneric
Min Values: 35.50275802612305
Max Values: 73.53621673583984
Mean Values: 56.297630025217124
Standard Deviation Values: 5.389221703130302
Object ID Field:
Fields:
None
Default Mosaic Method: Center
Allowed Mosaic Methods:
SortField:
SortValue: null
Mosaic Operator: First
Default Compression Quality: 75
Default Resampling Method: Bilinear
Max Record Count: null
Max Image Height: 4100
Max Image Width: 15000
Max Download Image Count: null
Max Mosaic Image Count: null
Allow Raster Function: true
Allow Copy: true
Allow Analysis: true
Allow Compute TiePoints: false
Supports Statistics: false
Supports Advanced Queries: false
Use StandardizedQueries: true
Raster Type Infos:
Name: Raster Dataset
Description: Supports all ArcGIS Raster Datasets
Help:
Has Raster Attribute Table: false
Edit Fields Info: null
Ownership Based AccessControl For Rasters: null
Child Resources:
Info
Histograms
Statistics
Key Properties
Legend
Raster Function Infos
Supported Operations:
Export Image
Identify
Measure
Compute Histograms
Compute Statistics Histograms
Get Samples
Compute Class Statistics
Query Boundary
Compute Pixel Location
Validate
Project